﻿BEGIN:VCALENDAR
VERSION:2.0
PRODID:-//Maison de la Femme - ECPv6.15.20//NONSGML v1.0//EN
CALSCALE:GREGORIAN
METHOD:PUBLISH
X-ORIGINAL-URL:https://maisondelafemme.ch
X-WR-CALDESC:Évènements pour Maison de la Femme
REFRESH-INTERVAL;VALUE=DURATION:PT1H
X-Robots-Tag:noindex
X-PUBLISHED-TTL:PT1H
BEGIN:VTIMEZONE
TZID:Europe/Zurich
BEGIN:DAYLIGHT
TZOFFSETFROM:+0100
TZOFFSETTO:+0200
TZNAME:CEST
DTSTART:20250330T010000
END:DAYLIGHT
BEGIN:STANDARD
TZOFFSETFROM:+0200
TZOFFSETTO:+0100
TZNAME:CET
DTSTART:20251026T010000
END:STANDARD
BEGIN:DAYLIGHT
TZOFFSETFROM:+0100
TZOFFSETTO:+0200
TZNAME:CEST
DTSTART:20260329T010000
END:DAYLIGHT
BEGIN:STANDARD
TZOFFSETFROM:+0200
TZOFFSETTO:+0100
TZNAME:CET
DTSTART:20261025T010000
END:STANDARD
BEGIN:DAYLIGHT
TZOFFSETFROM:+0100
TZOFFSETTO:+0200
TZNAME:CEST
DTSTART:20270328T010000
END:DAYLIGHT
BEGIN:STANDARD
TZOFFSETFROM:+0200
TZOFFSETTO:+0100
TZNAME:CET
DTSTART:20271031T010000
END:STANDARD
END:VTIMEZONE
BEGIN:VEVENT
DTSTART;TZID=Europe/Zurich:20260910T163000
DTEND;TZID=Europe/Zurich:20260910T200000
DTSTAMP:20260425T222821
CREATED:20260305T150018Z
LAST-MODIFIED:20260317T162730Z
UID:9370-1789057800-1789070400@maisondelafemme.ch
SUMMARY:Célébration officielle des 50 ans de la Maison de la Femme
DESCRIPTION:La Journée officielle des 50 ans de la Maison de la Femme\, jeudi 10 septembre 2026\, sera rythmée par deux moments forts : l’inauguration de la sculpture « Regard sur l’Égalité »\, symbole de l’engagement et de la solidarité et le vernissage de l’exposition « Super Héroïnes »\, présentant des portraits de femmes aux parcours atypiques (chauffeuses de camion\, pompières\, etc.)\, dont celui de Madeleine Moret\, de l’association Mod‑Elle\, afin de valoriser la diversité des trajectoires féminines. Cette exposition est réalisée en collaboration avec l’artiste Alexia Weill. \nCes deux créations mettront en lumière l’histoire\, les engagements et les figures féminines qui ont façonné la Maison depuis cinq décennies. \nProgramme \n\nAccueil dès 16h30\nPartie officielle à 17h00 : allocutions de la Présidente de la FMM\, d’une représentante de la Municipalité de Lausanne et d’une invitée du BEFH\nInauguration dès 17h30 :\n\nPrésentation de la sculpture « Regard sur l’Égalité »\nVernissage de l’exposition « Super Héroïnes » (portraits de femmes – Association Mod‑Elle)\n\n\nLa soirée sera animée par Lauriane Naulet et Camille Biermann \, comédiennes improvisatrices et fondatrices du « Spectacle de meufs »\n\n📍  Suspension des permanences et des cours du soir 📍\n\n\n\nRegard sur l’Égalité – Sculpture d’Alexia Weill\nPour marquer cet anniversaire\, la Maison de la Femme exposera à son entrée la sculpture « Regard sur l’égalité »\, œuvre en marbre blanc créée en 2019 pour les 60 ans du droit de vote des femmes dans le canton de Vaud. Symbole de mémoire\, de vigilance et de transmission\, cette installation s’inscrit dans la continuité des actions culturelles de la Maison et rend hommage aux femmes qui ont façonné son histoire depuis cinquante ans. \nSuper Héroïnes – Exposition de portraits\nÀ l’occasion des 50 ans de la Maison de la Femme\, l’artiste Alexia Weill présente Super Héroïnes\, une série des portraits de femmes\, dont celui de Madeleine Moret. Cette exposition est réalisée en collaboration avec Mod‑Elle\, association engagée dans la lutte contre les stéréotypes de genre et active dans l’élargissement des horizons professionnels des jeunes. \nCes deux créations artistiques\, la sculpture Regard sur l’Égalité et l’exposition Super Héroïnes\, donneront une dimension culturelle forte à la Journée officielle. Elles mettront en lumière les parcours\, les luttes et la créativité des femmes\, tout en renforçant l’identité de la Maison de la Femme comme lieu de mémoire\, d’engagement et d’inspiration. \n 
URL:https://maisondelafemme.ch/evenement/celebration-officielle-des-50-ans-de-la-maison-de-la-femme/
LOCATION:Maison de la Femme\, Avenue Eglantine 6\, Lausanne\, 1006
CATEGORIES:artistique,divers,réunion
ORGANIZER;CN="Fondation Madeleine Moret":MAILTO:info@maisondelafemme.ch
END:VEVENT
END:VCALENDAR