﻿BEGIN:VCALENDAR
VERSION:2.0
PRODID:-//Maison de la Femme - ECPv6.15.20//NONSGML v1.0//EN
CALSCALE:GREGORIAN
METHOD:PUBLISH
X-WR-CALNAME:Maison de la Femme
X-ORIGINAL-URL:https://maisondelafemme.ch
X-WR-CALDESC:Évènements pour Maison de la Femme
REFRESH-INTERVAL;VALUE=DURATION:PT1H
X-Robots-Tag:noindex
X-PUBLISHED-TTL:PT1H
BEGIN:VTIMEZONE
TZID:Europe/Zurich
BEGIN:DAYLIGHT
TZOFFSETFROM:+0100
TZOFFSETTO:+0200
TZNAME:CEST
DTSTART:20250330T010000
END:DAYLIGHT
BEGIN:STANDARD
TZOFFSETFROM:+0200
TZOFFSETTO:+0100
TZNAME:CET
DTSTART:20251026T010000
END:STANDARD
BEGIN:DAYLIGHT
TZOFFSETFROM:+0100
TZOFFSETTO:+0200
TZNAME:CEST
DTSTART:20260329T010000
END:DAYLIGHT
BEGIN:STANDARD
TZOFFSETFROM:+0200
TZOFFSETTO:+0100
TZNAME:CET
DTSTART:20261025T010000
END:STANDARD
BEGIN:DAYLIGHT
TZOFFSETFROM:+0100
TZOFFSETTO:+0200
TZNAME:CEST
DTSTART:20270328T010000
END:DAYLIGHT
BEGIN:STANDARD
TZOFFSETFROM:+0200
TZOFFSETTO:+0100
TZNAME:CET
DTSTART:20271031T010000
END:STANDARD
END:VTIMEZONE
BEGIN:VEVENT
DTSTART;TZID=Europe/Zurich:20260421T110000
DTEND;TZID=Europe/Zurich:20260421T163000
DTSTAMP:20260425T222709
CREATED:20260317T124342Z
LAST-MODIFIED:20260324T161616Z
UID:9399-1776769200-1776789000@maisondelafemme.ch
SUMMARY:L’Hermitage voyage à la Maison de la Femme\, avec Pro Senectute
DESCRIPTION:L’Hermitage voyage à la Maison de la Femme\, avec Pro Senectute \nFermé pour rénovation jusqu’à l’automne 2027\, la Fondation de l’Hermitage propose des rencontres participatives et créatives dans plusieurs lieux lausannois. \nDe 11h à 12h – présentation par Sylvie Wuhrmann\, directrice du musée\, de trois femmes de la collection de la Fondation de l’Hermitage\, en présence d’œuvres originales\, suivie d’un apéritif. \nDe 14h à 16h30 – Atelier créatif « Le paysage autrement » autour de l’aquarelle et du paysage avec l’illustratrice et autrice romande Fanny Vaucher.  \nProgramme proposé les 21 avril et 21 mai. CHF 15.- par activité ou CHF 25.- la journée \nInscriptions obligatoires : https://forms.office.com/e/mmXEzXXF8S
URL:https://maisondelafemme.ch/evenement/lhermitage-voyage-a-la-maison-de-la-femme-avec-pro-senectute/
LOCATION:Maison de la Femme\, Avenue Eglantine 6\, Lausanne\, 1006
CATEGORIES:artistique,Atelier pratique
ORGANIZER;CN="Fondation l'Hermitage":MAILTO:info@fondation-hermitage.ch
END:VEVENT
END:VCALENDAR