﻿BEGIN:VCALENDAR
VERSION:2.0
PRODID:-//Maison de la Femme - ECPv6.15.20//NONSGML v1.0//EN
CALSCALE:GREGORIAN
METHOD:PUBLISH
X-ORIGINAL-URL:https://maisondelafemme.ch
X-WR-CALDESC:Évènements pour Maison de la Femme
REFRESH-INTERVAL;VALUE=DURATION:PT1H
X-Robots-Tag:noindex
X-PUBLISHED-TTL:PT1H
BEGIN:VTIMEZONE
TZID:Europe/Zurich
BEGIN:DAYLIGHT
TZOFFSETFROM:+0100
TZOFFSETTO:+0200
TZNAME:CEST
DTSTART:20250330T010000
END:DAYLIGHT
BEGIN:STANDARD
TZOFFSETFROM:+0200
TZOFFSETTO:+0100
TZNAME:CET
DTSTART:20251026T010000
END:STANDARD
BEGIN:DAYLIGHT
TZOFFSETFROM:+0100
TZOFFSETTO:+0200
TZNAME:CEST
DTSTART:20260329T010000
END:DAYLIGHT
BEGIN:STANDARD
TZOFFSETFROM:+0200
TZOFFSETTO:+0100
TZNAME:CET
DTSTART:20261025T010000
END:STANDARD
BEGIN:DAYLIGHT
TZOFFSETFROM:+0100
TZOFFSETTO:+0200
TZNAME:CEST
DTSTART:20270328T010000
END:DAYLIGHT
BEGIN:STANDARD
TZOFFSETFROM:+0200
TZOFFSETTO:+0100
TZNAME:CET
DTSTART:20271031T010000
END:STANDARD
END:VTIMEZONE
BEGIN:VEVENT
DTSTART;TZID=Europe/Zurich:20260509T173000
DTEND;TZID=Europe/Zurich:20260509T193000
DTSTAMP:20260425T173605
CREATED:20260422T093421Z
LAST-MODIFIED:20260422T111457Z
UID:9472-1778347800-1778355000@maisondelafemme.ch
SUMMARY:Ville de Lausanne - Table ronde – Alice Rivaz et Anne Cuneo : des mots qui traversent le temps
DESCRIPTION:Le 9 mai 2026\, la Ville de Lausanne vous invite à célébrer les femmes qui ont marqué l’histoire lausannoise à travers une journée festive et engagée\, rythmée par un programme d’activités varié\, qui se clôturera par une table ronde à la Maison de la Femme dès 17h30. \nTable ronde – Alice Rivaz et Anne Cuneo : des mots qui traversent le temps \nPlongez dans l’univers de deux figures majeures de la littérature romande à l’occasion d’une table ronde inédite consacrée à Alice Rivaz et Anne Cuneo. À travers échanges\, analyses et lectures\, cet événement met en lumière la portée et l’actualité de leurs œuvres. La rencontre réunira plusieurs intervenant·e·s issu·e·s du monde littéraire et académique\, qui partageront leurs regards croisés sur ces autrices incontournables. Des extraits de leurs textes seront également interprétés par deux comédiennes\, offrant une redécouverte vivante et sensible de leurs écrits.La discussion sera suivie d’un moment convivial autour d’un apéritif offert. \nIntervenant·e·s :\n– Alain Berset\, éditeur (éditions Héros-Limite)\n– Valérie Cossy\, professeure associée\, Université de Lausanne\n– Catherine Lovey\, autrice \nLectures par :\n– Carole Epiney\n– Marie Perruchoud (Compagnie Tête en l’air) \nModération :\n– Fanny Meyer\, déléguée à la politique du livre\, Ville de Lausanne \n📅 Horaire : 17h30 – 19h30\n📍 Lieu : Maison de la Femme \nUn rendez-vous incontournable pour toutes celles et ceux qui souhaitent (re)découvrir des voix littéraires qui traversent le temps. \nLe 9 mai 2026\, la Ville de Lausanne vous invite à célébrer les femmes qui ont marqué l’histoire lausannoise à travers une journée festive et engagée\, rythmée par un programme d’activités varié. En 2022\, 100 rues lausannoises portaient le nom d’un homme\, contre seulement 3 dédiées à des femmes. Face à ce déséquilibre\, la Municipalité s’est engagée à (re)nommer 30 lieux en hommage à des figures féminines d’ici à 2026. \nÀ ce jour\, 25 femmes ont déjà donné leur nom à des lieux de la ville\, et 8 autres ont été sélectionnées. Quatre lieux seront officiellement (re)nommés en leur honneur le 1er octobre 2026\, tandis que quatre autres seront baptisés dans les futurs écoquartiers des Prés-de-Vidy et des Plaines-du-Loup (PA2)\, qui accueilleront leurs habitantes et habitants à l’horizon 2030. \nLa Ville de Lausanne vous invite à célébrer ensemble cette nouvelle visibilité donnée aux femmes dans l’espace public. Cet événement est gratuit et sans inscription. \nProgramme\n11h – Partie officielle suivie d’un apéritif offert \nEn présence de Florence Germond\, conseillère municipale en charge des questions d’égalité \nTémoignages sur 3 pionnières: \n\nMère Sofia par Véronique Eichenberger\, directrice la Fondation Mère Sofia\nHenriette d’Angeville par Marc Forestier\, historien\, spécialiste d’Henriette d’Angeville\nAntoinette Quinche par Cristina R. Martinez Torres\, chercheuse\, Université de Genève\, spécialiste de Antoinette Quinche\n\nLieu: place des Pionnières (anciennement place Centrale) \n13h30-15h30 – deux balades sur les traces des femmes qui ont fait Lausanne \nDes héroïnes au coin de ma rue\, guidée par Floriane Nikles \nPartez en balade sur les traces des femmes honorées d’un nom de rue. Elles étaient artistes\, scientifiques\, militantes\, enseignantes. Pionnières\, elles ont fait l’Histoire de Lausanne. \n\nAdaptée aux familles avec enfants dès 6 ans\nDurée: 1h30\, rendez-vous 15 minutes avant le départ\nDépart depuis la place de la Riponne\, devant l’Espace Arlaud\n\nUne Lausanne féminine et féministe\, guidée par Ariane Devanthéry\, historienne de la culture \nCette balade propose un parcours dans une Lausanne féminine et parfois féministe. Venez découvrir les aventures de plusieurs pionnières. \n\nDurée: 2 heures\, rendez-vous 15 minutes avant le départ\nDépart depuis la place des Pionnières\n\n16h-17h – Visite guidée «La place des femmes dans la Collection d’art de la Ville de Lausanne» \nVisite guidée de l’exposition «De Bailly à Zaric: Collection d’art Ville de Lausanne» en se focalisant sur les femmes artistes\, par Chantal Rey\, conservatrice \n\nLieu: Musée Historique Lausanne\n\n  \nTable ronde inédite 17h30-19h30 – Alice Rivaz et Anne Cuneo: Des mots qui traversent le temps\, suivi d’un apéritif offert \nAvec: \n\nAlain Berset\, éditeur\, éditions Héros-Limite\nValérie Cossy\, professeure associée\, Université de Lausanne\nCatherine Lovey\, autrice\n\n(Re)découvrez les œuvres de ces deux figures marquantes de la littérature romande à travers des lectures de textes par deux comédiennes Carole Epiney et Marie Perruchoud\, de la Compagnie Tête en l’air. \n\nModération par Fanny Meyer\, déléguée à la politique du livre\, Ville de Lausanne\nLieu: Maison de la Femme\n\n👉 Programme complet :\nhttps://www.lausanne.ch/portrait/cohesion-sociale/bureau-egalite/femmes-espace-public/inaugurations-femmes-lausanne
URL:https://maisondelafemme.ch/evenement/ville-de-lausanne-table-ronde-alice-rivaz-et-anne-cuneo-des-mots-qui-traversent-le-temps/
LOCATION:Maison de la Femme\, Avenue Eglantine 6\, Lausanne\, 1006
CATEGORIES:artistique,Conférence,littéraire,réunion
END:VEVENT
END:VCALENDAR